BEGIN:VCALENDAR
VERSION:2.0
PRODID:Events Booking
BEGIN:VEVENT
UID:69e77ee9389b8
SUMMARY:LD4.0 - LEADERSHIP DEVELOPMENT
DESCRIPTION:Workshop Leadership Development
LOCATION:253\, Nguyễn Văn Trỗi\, Phường Phú Nhuận\, Thành phố
  Hồ Chí Minh\, Vietnam
DTSTART:20250215T020000Z
DTEND:20250216T100000Z
DTSTAMP:20260421T204305Z
ORGANIZER;CN=Tinh Hoa Quản Trị:MAILTO:admin@tinhhoaquantri.com
GEO:10.796898;106.673341
X-APPLE-STRUCTURED-LOCATION;VALUE=URI;X-ADDRESS=253\, Nguyễn Văn Trỗi\
 , Phường Phú Nhuận\, Thành phố Hồ Chí Minh\, Vietnam;X-APPLE-R
 ADIUS=72;X-TITLE=Eastin Grand Saigon Hotel:10.796898;106.673341
END:VEVENT
END:VCALENDAR