BEGIN:VCALENDAR
VERSION:2.0
PRODID:Events Booking
BEGIN:VEVENT
UID:69e77a4d5746a
SUMMARY:MA5.8 IMPLEMENTATION SKILL
DESCRIPTION:Workshop Thực Thi Marketing Hiệu Quả
LOCATION:253\, Nguyễn Văn Trỗi\, Phường Phú Nhuận\, Thành phố
  Hồ Chí Minh\, Vietnam
DTSTART:20241005T020000Z
DTEND:20241006T100000Z
DTSTAMP:20230509T031321Z
ORGANIZER;CN=Tinh Hoa Quản Trị:MAILTO:admin@tinhhoaquantri.com
GEO:10.796898;106.673341
X-APPLE-STRUCTURED-LOCATION;VALUE=URI;X-ADDRESS=253\, Nguyễn Văn Trỗi\
 , Phường Phú Nhuận\, Thành phố Hồ Chí Minh\, Vietnam;X-APPLE-R
 ADIUS=72;X-TITLE=Eastin Grand Saigon Hotel:10.796898;106.673341
END:VEVENT
END:VCALENDAR