BEGIN:VCALENDAR
VERSION:2.0
PRODID:Events Booking
BEGIN:VEVENT
UID:69e7639fde82b
SUMMARY:VALUE-BASED MANAGEMENT FOUNDATIONS
DESCRIPTION:Management Skills Training
LOCATION:253\, Nguyễn Văn Trỗi\, Phường Phú Nhuận\, Thành phố
  Hồ Chí Minh\, Vietnam
DTSTART:20260410T020000Z
DTEND:20260412T100000Z
DTSTAMP:20260330T102756Z
ORGANIZER;CN=Tinh Hoa Quản Trị:MAILTO:admin@tinhhoaquantri.com
GEO:10.796898;106.673341
X-APPLE-STRUCTURED-LOCATION;VALUE=URI;X-ADDRESS=253\, Nguyễn Văn Trỗi\
 , Phường Phú Nhuận\, Thành phố Hồ Chí Minh\, Vietnam;X-APPLE-R
 ADIUS=72;X-TITLE=Eastin Grand Saigon Hotel:10.796898;106.673341
END:VEVENT
END:VCALENDAR